BEGIN:VCALENDAR
VERSION:2.0
PRODID:-//eventon.com NONSGML v1.0//EN
CALSCALE:GREGORIAN
METHOD:PUBLISH
BEGIN:VEVENT
UID:69e5dccf67937
DTSTAMP:20260420T095911
DTSTART:20240918T162000Z
DTEND:20240918T182000Z
TZID:UTC
LOCATION:
SUMMARY:Budapest Musical Iskola
DESCRIPTION:Szerepelni\,  versenyezni vágyó 8-25 éves táncosokat vár a Budapest Musical Iskola táncóráira a Jókai Klubba! Oktató: Finta Gábor koreográfus\,  táncművész\,  táncpedagógus Budapest Musical Iskola Időpontok: Hétfő: 16:30-17:30 – 12 éves korig 17:30-19.00 – 13 éves kortól Szerda: 16:20-17:20 – alapozás (minden korosztálynak) 17:20-18:20 &#8211; akrobatika (minden korosztálynak) Péntek: 15.00-16:30 –[..]\nhttps://jokaiklub.hu/events/budapesti-musical-iskola-2/
URL:https://jokaiklub.hu/events/budapesti-musical-iskola-2/
END:VEVENT
END:VCALENDAR