BEGIN:VCALENDAR
VERSION:2.0
PRODID:-//eventon.com NONSGML v1.0//EN
CALSCALE:GREGORIAN
METHOD:PUBLISH
BEGIN:VEVENT
UID:69e88aea5dd63
DTSTAMP:20260422T104634
DTSTART:20260305T143000Z
DTEND:20260305T160000Z
TZID:UTC
LOCATION:
SUMMARY:Jókai Nyugdíjasklub
DESCRIPTION:Ezen az összejövetelen a &#8222;Coco avant Chanel&#8221; c. filmet nézzük meg. Klubvezető: Dancs Katalin\,  tel.: +36 20 313 5482 A jó hangulatú összejövetelekre szeretettel várjuk a társaságra vágyó hegyvidéki nyugdíjasokat! Filmvetítés\nhttps://jokaiklub.hu/events/jokai-nyugdijasklub/
URL:https://jokaiklub.hu/events/jokai-nyugdijasklub/
END:VEVENT
END:VCALENDAR