BEGIN:VCALENDAR
VERSION:2.0
PRODID:-//eventon.com NONSGML v1.0//EN
CALSCALE:GREGORIAN
METHOD:PUBLISH
BEGIN:VEVENT
UID:69e88af915649
DTSTAMP:20260422T104649
DTSTART:20250924T103000Z
DTEND:20250924T120000Z
TZID:Africa/Abidjan
LOCATION:
SUMMARY:KULTÚRKALANDOK
DESCRIPTION:KULTÚRKALANDOK Lengyelország című ismeretterjesztő előadás. Az előadást Orbán Gábor tartja. A részvétel a XII. kerületi nyugdíjasoknak hegyvidéki lakcímkártya felmutatásával ingyenes\,  más kerületekből érkezőknek 1000 Ft/fő/alkalom. &nbsp; &nbsp; Az élet szép! Hegyvidéki NyugdíjasklubLengyelország című ismeretterjesztő előadás\nhttps://jokaiklub.hu/events/kulturkalandok-4/
URL:https://jokaiklub.hu/events/kulturkalandok-4/
END:VEVENT
END:VCALENDAR