BEGIN:VCALENDAR
VERSION:2.0
PRODID:-//eventon.com NONSGML v1.0//EN
CALSCALE:GREGORIAN
METHOD:PUBLISH
BEGIN:VEVENT
UID:69e5e5c4927ff
DTSTAMP:20260420T103724
DTSTART:20251002T143000Z
DTEND:20251002T163000Z
TZID:Europe/Budapest
LOCATION:
SUMMARY:Jókai Nyugdíjas Klub
DESCRIPTION:Ismeretterjesztő előadás a Jókai Klubban. Előadó: Busz Zoltán A jó hangulatú összejövetelekre szeretettel várjuk a társaságra vágyó hegyvidéki nyugdíjasokat! Klubvezető: Harsányi Hajnalka tel.: +36 20 971 4140 Klubnap a Jókai Klubban\nhttps://jokaiklub.hu/events/jokai-nyugdijas-klub-28/
URL:https://jokaiklub.hu/events/jokai-nyugdijas-klub-28/
END:VEVENT
END:VCALENDAR