BEGIN:VCALENDAR
VERSION:2.0
PRODID:-//eventon.com NONSGML v1.0//EN
CALSCALE:GREGORIAN
METHOD:PUBLISH
BEGIN:VEVENT
UID:69e5f9b9394e5
DTSTAMP:20260420T120233
DTSTART:20260311T163000Z
DTEND:20260311T180000Z
TZID:UTC
LOCATION:
SUMMARY:Budapest Musical Iskola
DESCRIPTION:Szerepelni\,  versenyezni vágyó 8-25 éves táncosokat vár a Budapest Musical Iskola táncóráira a Jókai Klubba! Oktató: Finta Gábor koreográfus\,  táncművész\,  táncpedagógus Bővebb információ: www.musicaliskola.hu &nbsp;\nhttps://jokaiklub.hu/events/budapest-musical-iskola-66/
URL:https://jokaiklub.hu/events/budapest-musical-iskola-66/
END:VEVENT
END:VCALENDAR