BEGIN:VCALENDAR
VERSION:2.0
PRODID:-//eventon.com NONSGML v1.0//EN
CALSCALE:GREGORIAN
METHOD:PUBLISH
BEGIN:VEVENT
UID:69e5f7bc026e4
DTSTAMP:20260420T115404
DTSTART:20260314T093000Z
DTEND:20260314T113000Z
TZID:UTC
LOCATION:
SUMMARY:Művészi Torna - gyerekeknek
DESCRIPTION:Mozgáskoordináció és ritmusérzék-fejlesztő gimnasztika Berczik Sára módszere alapján. Vezeti: Pataki Rita mozgáspedagógus tel.: +36 30 483 1897\,  e-mail: patakiri@gmail.com\nhttps://jokaiklub.hu/events/muveszi-torna-gyerekeknek-9/
URL:https://jokaiklub.hu/events/muveszi-torna-gyerekeknek-9/
END:VEVENT
END:VCALENDAR