BEGIN:VCALENDAR
VERSION:2.0
PRODID:-//eventon.com NONSGML v1.0//EN
CALSCALE:GREGORIAN
METHOD:PUBLISH
BEGIN:VEVENT
UID:69e4c445dd662
DTSTAMP:20260419T140213
DTSTART:20260424T160000Z
DTEND:20260424T173000Z
TZID:UTC
LOCATION:
SUMMARY:Budapest Musical Iskola
DESCRIPTION:Szerepelni\,  versenyezni vágyó 8-25 éves táncosokat vár a Budapest Musical Iskola táncóráira a Jókai Klubba! Oktató: Finta Gábor koreográfus\,  táncművész\,  táncpedagógus Bővebb információ: www.musicaliskola.hu Tánc\,  ének\,  színpadi művészet\nhttps://jokaiklub.hu/events/budapest-musical-iskola-79/
URL:https://jokaiklub.hu/events/budapest-musical-iskola-79/
END:VEVENT
END:VCALENDAR